BEGIN:VCALENDAR
VERSION:2.0
PRODID:-//Wound Innovations - ECPv4.6.11.1//NONSGML v1.0//EN
CALSCALE:GREGORIAN
METHOD:PUBLISH
X-WR-CALNAME:Wound Innovations
X-ORIGINAL-URL:https://www.woundinnovations.com.au
X-WR-CALDESC:Events for Wound Innovations
BEGIN:VEVENT
DTSTART;TZID=Australia/Brisbane:20180228T190000
DTEND;TZID=Australia/Brisbane:20180228T210000
DTSTAMP:20180227T020720
CREATED:20180129T092430Z
LAST-MODIFIED:20180129T092524Z
UID:1269-1519844400-1519851600@www.woundinnovations.com.au
SUMMARY:Combating Complex Wounds: the latest in management with Prof Keith Harding
DESCRIPTION:The majority of wounds will heal with the use of evidence-based practice however even with the best intentions some wounds remain recalcitrant to healing. This evening will provide an opportunity to explore some difficult cases as well as hear Professor Keith Harding speak about advances in the area of managing difficult to heal chronic wounds. \nDate: \nWednesday 28th February 2018\, 6:00pm – 9:00pm\nLow cost parking on site \nProgram: \n6:00pm: Arrival catering and beverages\n6:30pm: Professor Keith Harding: Latest Trends in Complex Wound Management\n7:30pm: Three case discussions by the panel\n8:45pm: Audience questions and discussion\n9:00pm: Close \nTarget audience: \nAll clinicians who are involved in wound management as part of their day-to-day practice\, such as: General Practitioners\, Specialist Wound Care Clinicians\, Podiatrists\, Practice Nurses\, Pharmacists\, Community Nurses\, Registered & Enrolled Nurses. Undergraduate students are also welcome to attend. \nCost: \n$65 incl. GST. Cost includes catering & Certificate of Attendance \nLocation: \nWound Innovations Seminar Room\nBoundary Court\, Ground Floor\n55 Little Edward Street\,\nSpring Hill\, Brisbane QLD 4000 \nRegister today: \n \nPowered by Eventbrite\n\n
URL:https://www.woundinnovations.com.au/training/combating-complex-wounds-latest-management-prof-keith-harding/
LOCATION:55 Little Edward Street\, Spring Hill\, QLD\, 4000\, Australia
GEO:-27.461595;153.0246631
X-APPLE-STRUCTURED-LOCATION;VALUE=URI;X-ADDRESS=55 Little Edward Street Spring Hill QLD 4000 Australia;X-APPLE-RADIUS=500;X-TITLE=55 Little Edward Street:geo:153.0246631,-27.461595
CATEGORIES:Panel Discussion,Wound Seminar
ATTACH;FMTTYPE=image/jpeg:https://www.woundinnovations.com.au/wp-content/uploads/2018/01/eventbrite-images_keith.jpg
ORGANIZER;CN="Wound%20Innovations":MAILTO:info@woundinnovations.com.au
END:VEVENT
BEGIN:VEVENT
DTSTART;TZID=Australia/Brisbane:20180403T170000
DTEND;TZID=Australia/Brisbane:20180424T190000
DTSTAMP:20180227T020720
CREATED:20180129T094109Z
LAST-MODIFIED:20180129T094109Z
UID:1278-1522774800-1524596400@www.woundinnovations.com.au
SUMMARY:Fundamentals of Wound Management - 4 week workshop April
DESCRIPTION:A practical skills workshop series utilising interactive learning techniques. \nFollowing our in-demand workshops in 2017\, our 4 wound workshop course is held each Tuesday night in April. Located at our state of the art learning facilities at Spring Hill\, this event utilises a practical skills development approach to learning about evidenced based wound management. \n  \nPurchase includes ALL four dates: \n\n3rd \, 10th\, 17th\, 24th April 2018 (Tuesday nights)\n5:00pm – 7:00pm\nLow cost parking on site\nCost includes light catering\, Certificate of Attendance and a Wound Product User Guide\n\nCPD hours: \n\n8 total\n\nLearning Outcomes: \n\nDisplay an understanding of the physiology of normal wound repair and the body’s response to injury\nRecognise the physiological differences between acute and chronic wounds and demonstrate knowledge of common wound types\nIdentify principles required to perform a holistic assessment of the patient with a wound\nIdentify factors that may affect wound healing\nApply a broad range of evidence based wound treatment options based on the principles of wound assessment\nIdentify patient education requirements\nRecognise when and where to refer patients to maximise wound healing\n\nCourse Presenter: \nSharon Whalley (NP-candidate\, Grad Dip Wound Care) has extensive experience in the both acute and chronic wound management. Sharon enjoys sharing her knowledge and skills with other clinicians to improve outcomes for patients who live with wounds. \nTarget audience: \nAll clinicians who are involved in wound management as part of their day-to-day practice: General Practitioners\, Practice Nurses\, Community Pharmacists\, Community Nurses\, Registered & Enrolled Nurses. \nUndergraduate students are also welcome to attend. \n\n \nPowered by Eventbrite\n\n
URL:https://www.woundinnovations.com.au/training/fundamentals-of-wound-management-4-week-workshop-april/
LOCATION:55 Little Edward Street\, Spring Hill\, QLD\, 4000\, Australia
GEO:-27.461595;153.0246631
X-APPLE-STRUCTURED-LOCATION;VALUE=URI;X-ADDRESS=55 Little Edward Street Spring Hill QLD 4000 Australia;X-APPLE-RADIUS=500;X-TITLE=55 Little Edward Street:geo:153.0246631,-27.461595
CATEGORIES:Workshop
ATTACH;FMTTYPE=image/jpeg:https://www.woundinnovations.com.au/wp-content/uploads/2018/01/eventbrite-images_April4week.jpg
ORGANIZER;CN="Wound%20Innovations":MAILTO:info@woundinnovations.com.au
END:VEVENT
BEGIN:VEVENT
DTSTART;TZID=Australia/Brisbane:20180518T080000
DTEND;TZID=Australia/Brisbane:20180518T163000
DTSTAMP:20180227T020720
CREATED:20180129T093215Z
LAST-MODIFIED:20180214T083853Z
UID:1276-1526630400-1526661000@www.woundinnovations.com.au
SUMMARY:Management of Lower Leg Ulceration (1 day)
DESCRIPTION:Located at our state of the art learning facilities at Spring Hill\, this event utilises a practical skills development approach to learning about evidenced-based management of Lower Leg Ulceration. \nThe workshop explores the pathophysiology underlying lower limb ulceration and explores assessment and management of these patients. \nLearning Outcomes: \n\nUnderstand the pathophysiology of peripheral arterial disease\nUnderstand the pathophysiology of venous disease.\nRecognise the components require when taking a history from a patient with lower limb ulceration.\nPerform a lower limb vascular examination including ankle brachial pressure index\nReview the principles of ulcer assessment and management\nUnderstand the principles and evidence supporting compression therapy for venous leg ulcers\nDemonstrate the application of range of different compression\n\nTarget audience: \nAll clinicians who are involved in wound management as part of their day-to-day practice\, such as: \n\nGeneral Practitioners\nPractice Nurses\nPharmacists\nCommunity Nurses\nRegistered & Enrolled Nurses\nUndergraduate students are also welcome to attend\n\nDate: \n\n9th March 2018 (Friday)\n8:00am – 4:30pm\nLow cost parking on site\n\nCPD hours:\n7 total \nLocation: \nWound Innovations\nBoundary Court\, Ground Floor\n55 Little Edward Street\,\nSpring Hill\, Brisbane QLD 4000 \nCost: \n$350.00 incl. GST\nCost includes lunch\, tea/coffee\, Certificate of Attendance and a Wound Product User Guide \nCourse Presenters: \n\nSharon Whalley (NP-candidate\, Grad Dip Wound Care)\nDr John Bingley (FRACSC (Vasc)\, PhD\, MMedSci\, MBBS)\nSarah Hylton (B.Nursing)\n\n\n \nPowered by Eventbrite\n\n
URL:https://www.woundinnovations.com.au/training/management-lower-leg-ulceration-1-day/
LOCATION:55 Little Edward Street\, Spring Hill\, QLD\, 4000\, Australia
GEO:-27.461595;153.0246631
X-APPLE-STRUCTURED-LOCATION;VALUE=URI;X-ADDRESS=55 Little Edward Street Spring Hill QLD 4000 Australia;X-APPLE-RADIUS=500;X-TITLE=55 Little Edward Street:geo:153.0246631,-27.461595
CATEGORIES:Workshop
ATTACH;FMTTYPE=image/jpeg:https://www.woundinnovations.com.au/wp-content/uploads/2018/01/eventbrite_maylowerleg.jpg
ORGANIZER;CN="Wound%20Innovations":MAILTO:info@woundinnovations.com.au
END:VEVENT
END:VCALENDAR